Workbook
Name _MO2: #REF!
Name adjitemsbyregion: 'Adjusting items by region'!$A$1
Name Adjitemsbysegment: 'Adjusting items by segment'!$A$1
Name bp_s_net_production_by_country: #REF!
Name CandP: 'Customers & Products'!$A$1
Name Condensed_group_statement_of_comprehensive_income: SOCI!$B$5
Name Exploration_and_development_wells: #REF!
Name explorationanddevelopmentwells: DCF!$A$1
Name explorationanddevelopmentwells: 'Movements in reserves'!$A$1
Name explorationanddevelopmentwells: 'Oil and gas e&p activites'!$A$1
Name explorationanddevelopmentwells: #REF!
Name explorationinterests: #REF!
Name FinancialSummary: Summary!$1:$1048576
Name FinSumm: Summary!$A$1
Name FX1Q: #REF!:#REF!
Name GLCE: 'Gas & Low Carbon Energy'!$A$1
Name LNG: 'LNG projects'!$A$1
Name LNGprojects: 'LNG projects'!$A$1
Name MO0: #REF!
Name Net_debt_and_net_debt_including_leases: 'Net debt & net debt incl leases'!$B$5
Name OG: 'Oil and gas e&p activites'!$A$2
Name opcapemployed: #REF!
Name OPO: 'Oil Production & Operations'!$A$1
Name PPE: 'PP&E'!$A$1
Name QQ: #REF!
Name reservesmove: 'Movements in reserves'!$A$2
Name reservesmove: #REF!
Name SAPBEXhrIndnt: 1
Name SAPBEXrevision: 1
Name SAPBEXsysID: "DP2"
Name SAPBEXwbID: "2PQ3FIKNNFNPZ70XJ0L661080"
Name SOCI: SOCI!$B$4
Name Standardized_measure_of_discounted_future_net_cash_flows_and_changes_therein_relating_to_proved_oil_and_gas_reserves: #REF!
Name Summary: Footnotes!$A$2:$C$3
Name upstream: 'oil & gas group metrics'!$A$1
Name Year1: #REF!

Sheet Data input
A1: Select quarter | B1: Q2
A3: Q1
A4: Q2
A5: Q3
A6: Q4

Sheet Contents
B1: Financial and Operating Information 2022-2026
B5: Contents
B7: Basis of preparation
B8: Group information
B9: Summary
B10: Group income statement
B11: Statement of comprehensive income
B12: Summarized reported results
B13: Replacement cost (RC) profit
B14: Underlying RC profit
B15: Adjusting items by segment
B16: Adjusting items by geographical area
... B47: Glossary

Sheet Basis of Prep
A1: =Contents!$B$1 -> Financial and Operating Information 2022-2026
A4: Basis of preparation
A6: bp prepares its consolidated financial statements included within bp Annual Report and Form 20-F on the basis of United Kingdom adopted international accounting standards and IFRS Accounting Standards® (IFRS) as issued by the International Accounting Standards Board (IASB), IFRS as adopted by the UK and as adopted by the European Union (EU), and in accordance with the provisions of the UK Companies Act 2006 as applicable to companies reporting under international accounting standards. IFRS as adopted by the UK do not differ from IFRS as adopted by the EU. IFRS as adopted by the EU and UK differ in certain respects from IFRS as issued by the IASB. The differences have no impact on the group’s consolidated financial statements for the periods presented.
A7: The financial information presented herein has been prepared in accordance with the accounting policies expected to be used in preparing bp Annual Report and Form 20-F 2026, which are the same as those used in preparing bp Annual Report and Form 20-F 2025. There are no new or amended standards or interpretations adopted from 1 January 2026 onwards that have a material impact on the interim financial information.
A8: Investment in Rosneft Since the first quarter 2022, bp accounts for its interest in Rosneft and its other businesses with Rosneft within Russia, as financial assets measured at fair value within ‘Other investments’. It is considered by management that any measure of fair value, other than nil, would be subject to such high measurement uncertainty that no estimate would provide useful information even if it were accompanied by a description of the estimate made in producing it and an explanation of the uncertainties that affect the estimate. Accordingly, it is not currently possible to estimate any carrying value other than zero when determining the measurement of the interest in Rosneft and the other businesses with Rosneft within Russia. The total pre-tax charge for the full year to 31 December 2022 relating to bp’s investment in Rosneft and other businesses with Rosneft in Russia was $25,520 million. As a result of bp's decision to exit its shareholding in Rosneft in the first quarter 2022, the group ceased to report Rosneft as a separate segment in its financial reporting from 2022 onwards. Rosneft results from 1 January 2022 to 27 February 2022 are included within other businesses & corporate (OB&C).
A9: Change in segmentation - Archaea During the first quarter of 2025, our Archaea business has moved from the customers & products segment to the gas & low carbon energy segment. The change in segmentation is consistent with a change in the way that resources are allocated, and performance is assessed by the chief operating decision maker, who for bp is the group chief executive. Comparative information for 2024 has been restated where material to reflect the changes in reportable segments.

Sheet Summary
B1: Financial and Operating Information 2022 - 2026
B2: Group information
Z3: Contents
B5: Summary
AD7: $ million
D8: Footnotes | F8: Q1 | G8: Q2 | H8: Q3 | I8: Q4 | J8: 2022 | K8: Q1 | L8: Q2 | M8: Q3 | N8: Q4 | O8: 2023 | P8: Q1 | Q8: Q2 | R8: Q3 | S8: Q4 | T8: 2024 | U8: Q1 | V8: Q2 | W8: Q3 | X8: Q4 | Y8: 2025 | Z8: Q1 | AA8: Q2 | AB8: Q3 | AC8: Q4 | AD8: 2026
B9: Profit (loss) attributable to bp shareholders | F9: -20384 | G9: 9257 | H9: -2163 | I9: 10803 | J9: -2487 | K9: 8218 | L9: 1792 | M9: 4858 | N9: 371 | O9: 15239 | P9: 2263 | Q9: -129 | R9: 206 | S9: -1959 | T9: 381 | U9: 687 | V9: 1629 | W9: 1161 | X9: -3422 | Y9: 55 | Z9: 3842 | AA9: 3911 | AD9: 7753
B10: Inventory holding (gains) losses, net of tax | F10: -2664 | G10: -1607 | H10: 2186 | I10: 1066 | J10: -1019 | K10: 452 | L10: 549 | M10: -1212 | N10: 1155 | O10: 944 | P10: -657 | Q10: 113 | R10: 906 | S10: 7 | T10: 369 | U10: -118 | V10: 407 | W10: 62 | X10: 666 | Y10: 1017 | Z10: -3180 | AA10: 717 | AD10: -2463
B11: Replacement cost profit (loss) attributable to bp shareholders | F11: -23048 | G11: 7650 | H11: 23 | I11: 11869 | J11: -3506 | K11: 8670 | L11: 2341 | M11: 3646 | N11: 1526 | O11: 16183 | P11: 1606 | Q11: -16 | R11: 1112 | S11: -1952 | T11: 750 | U11: 569 | V11: 2036 | W11: 1223 | X11: -2756 | Y11: 1072 | Z11: 662 | AA11: 4628 | AD11: 5290
B12: Net (favourable) adverse impact of adjusting items, net of tax | F12: 29293 | G12: 801 | H12: 8127 | I12: -7062 | J12: 31159 | K12: -3707 | L12: 248 | M12: -353 | N12: 1465 | O12: -2347 | P12: 1117 | Q12: 2772 | R12: 1155 | S12: 3121 | T12: 8165 | U12: 812 | V12: 317 | W12: 987 | X12: 4297 | Y12: 6413 | Z12: 2536 | AA12: 1104 | AD12: 3640
B13: Underlying replacement cost profit (loss) attributable to bp shareholders | F13: 6245 | G13: 8451 | H13: 8150 | I13: 4807 | J13: 27653 | K13: 4963 | L13: 2589 | M13: 3293 | N13: 2991 | O13: 13836 | P13: 2723 | Q13: 2756 | R13: 2267 | S13: 1169 | T13: 8915 | U13: 1381 | V13: 2353 | W13: 2210 | X13: 1541 | Y13: 7485 | Z13: 3198 | AA13: 5732 | AD13: 8930
B15: Operating cash flow | F15: 8210 | G15: 10863 | H15: 8288 | I15: 13571 | J15: 40932 | K15: 7622 | L15: 6293 | M15: 8747 | N15: 9377 | O15: 32039 | P15: 5009 | Q15: 8100 | R15: 6761 | S15: 7427 | T15: 27297 | U15: 2834 | V15: 6271 | W15: 7786 | X15: 7602 | Y15: 24493 | Z15: 2860 | AA15: 10858 | AD15: 13718
B16: Capital expenditure | F16: 2929 | G16: 2838 | H16: 3194 | I16: 7369 | J16: 16330 | K16: 3625 | L16: 4314 | M16: 3603 | N16: 4711 | O16: 16253 | P16: 4278 | Q16: 3691 | R16: 4542 | S16: 3726 | T16: 16237 | U16: 3623 | V16: 3361 | W16: 3381 | X16: 4168 | Y16: 14533 | Z16: 3290 | AA16: 3086 | AD16: 6376
B17: Divestment and other proceeds | F17: 1181 | G17: 722 | H17: 606 | I17: 614 | J17: 3123 | K17: 800 | L17: 88 | M17: 655 | N17: 300 | O17: 1843 | P17: 413 | Q17: 760 | R17: 290 | S17: 2761 | T17: 4224 | U17: 328 | V17: 1356 | W17: 28 | X17: 3602 | Y17: 5314 | Z17: 248 | AA17: 609 | AD17: 857
B18: Net issue (repurchase) of shares | F18: -1592 | G18: -2288 | H18: -2876 | I18: -3240 | J18: -9996 | K18: -2448 | L18: -2073 | M18: -2047 | N18: -1350 | O18: -7918 | P18: -1750 | Q18: -1751 | R18: -2001 | S18: -1625 | T18: -7127 | U18: -1847 | V18: -1063 | W18: -750 | X18: -826 | Y18: -4486 | Z18: -562 | AA18: 0 | AD18: -562
B19: Net debt | F19: 27457 | G19: 22816 | H19: 22002 | I19: 21422 | J19: 21422 | K19: 21232 | L19: 23660 | M19: 22324 | N19: 20912 | O19: 20912 | P19: 24015 | Q19: 22614 | R19: 24268 | S19: 22997 | T19: 22997 | U19: 26968 | V19: 26043 | W19: 26054 | X19: 22182 | Y19: 22182 | Z19: 25309 | AA19: 22251 | AD19: 22251
B20: ROACE% | J20: 0.30524606 | O20: 0.181 | T20: 0.142 | Y20: 0.139
B21: Adjusted EBITDA | J21: 60747 | O21: 43710 | T21: 38012 | Y21: 37615
B22: Underlying operating expenditure | O22: 22633 | P22: 5511 | Q22: 5441 | R22: 5590 | S22: 5784 | T22: 22326 | U22: 5304 | V22: 5457 | W22: 5487 | X22: 5639 | Y22: 21887 | Z22: 5369 | AA22: 5333 | AD22: =SUM(Z22:AC22) -> 10702
B23: Announced dividend per ordinary share (cents per share) | F23: 5.46 | G23: 6.006 | H23: 6.006 | I23: 6.61 | J23: 24.082 | K23: 6.61 | L23: 7.27 | M23: 7.27 | N23: 7.27 | O23: 28.42 | P23: 7.27 | Q23: 8 | R23: 8 | S23: 8 | T23: 31.27 | U23: 8 | V23: 8.32 | W23: 8.32 | X23: 8.32 | Y23: 32.96 | Z23: 8.32 | AA23: 8.66 | AD23: 16.98
B24: RC profit (loss) per ordinary share (cents) | F24: -118.11 | G24: 39.45 | H24: 0.12 | I24: 65.29 | J24: -18.47 | K24: 48.46 | L24: 13.35 | M24: 21.19 | N24: 9.06 | O24: 93.21 | P24: 9.65 | Q24: -0.1 | R24: 6.81 | S24: -12.29 | T24: 4.63 | U24: 3.61 | V24: 13.01 | W24: 7.88 | X24: -17.88 | Y24: 6.87 | Z24: 4.28 | AA24: 29.39 | AD24: 33.71
B25: RC profit (loss) per ADS (dollars) | F25: -7.09 | G25: 2.37 | H25: 0.01 | I25: 3.92 | J25: -1.11 | K25: 2.91 | L25: 0.8 | M25: 1.27 | N25: 0.54 | O25: 5.59 | P25: 0.58 | Q25: -0.01 | R25: 0.41 | S25: -0.74 | T25: 0.28 | U25: 0.22 | V25: 0.78 | W25: 0.47 | X25: -1.07 | Y25: 0.41 | Z25: 0.26 | AA25: 1.76 | AD25: 2.02
B26: Underlying RC profit (loss) per ordinary share (cents) | F26: 32 | G26: 43.58 | H26: 43.15 | I26: 26.44 | J26: 145.63 | K26: 27.74 | L26: 14.77 | M26: 19.14 | N26: 17.77 | O26: 79.69 | P26: 16.24 | Q26: 16.61 | R26: 13.89 | S26: 7.36 | T26: 54.4 | U26: 8.75 | V26: 15.03 | W26: 14.24 | X26: 10 | Y26: 48.02 | Z26: 20.67 | AA26: 36.92 | AD26: 57.62
B27: Underlying RC profit (loss) per ADS (dollars) | F27: 1.92 | G27: 2.61 | H27: 2.59 | I27: 1.59 | J27: 8.74 | K27: 1.66 | L27: 0.89 | M27: 1.15 | N27: 1.07 | O27: 4.78 | P27: 0.97 | Q27: 1 | R27: 0.83 | S27: 0.44 | T27: 3.26 | U27: 0.53 | V27: 0.9 | W27: 0.85 | X27: 0.6 | Y27: 2.88 | Z27: 1.24 | AA27: 2.22 | AD27: 3.46
B30: Operating metrics
B31: Total production - total hydrocarbons (mboe/d) | F31: 3002 | G31: 2198 | H31: 2298 | I31: 2265 | J31: 3004 | K31: 2329 | L31: 2272 | M31: 2328 | N31: 2320 | O31: 2313 | P31: 2378 | Q31: 2379.4507 | R31: 2378.242 | S31: 2298.686 | T31: 2358.391 | U31: 2238.737 | V31: 2300.014 | W31: 2362.025 | X31: 2343.758 | Y31: 2311.56 | Z31: =Z32 -> 2338.826 | AA31: =IFERROR('Gas & Low Carbon Energy'!AB67+'Oil Production & Operations'!AB61," ") -> 2200.8145 | AB31: =IFERROR('Gas & Low Carbon Energy'!AC67+'Oil Production & Operations'!AC61," ") | AC31: =IFERROR('Gas & Low Carbon Energy'!AD67+'Oil Production & Operations'!AD61," ") | AD31: =AD32 -> 2269.4392
B32: upstream Production (mboe/d) | F32: 2252 | G32: 2198 | H32: 2298 | I32: 2265 | J32: 2254 | K32: 2329 | L32: 2272 | M32: 2328 | N32: 2320 | O32: 2313 | P32: 2378 | Q32: 2379.4507 | R32: 2378.242 | S32: 2298.686 | T32: 2358.391 | U32: 2238.737 | V32: 2300.014 | W32: 2362.025 | X32: 2343.758 | Y32: 2311.56 | Z32: =IF(AND('Data input'!$B$1<>"Q2",'Gas & Low Carbon Energy'!AA67="",'Oil Production & Operations'!AA61=""),"",SUM('Gas & Low Carbon Energy'!AA67,'Oil Production & Operations'!AA61)) -> 2338.826 | AA32: =IF(AND('Data input'!$B$1<>"Q2",'Gas & Low Carbon Energy'!AB67="",'Oil Production & Operations'!AB61=""),"",SUM('Gas & Low Carbon Energy'!AB67,'Oil Production & Operations'!AB61)) -> 2200.8145 | AB32: =IF(AND('Data input'!$B$1<>"Q3",'Gas & Low Carbon Energy'!AC67="",'Oil Production & Operations'!AC61=""),"",SUM('Gas & Low Carbon Energy'!AC67,'Oil Production & Operations'!AC61)) | AC32: =IF(AND('Data input'!$B$1<>"Q4",'Gas & Low Carbon Energy'!AD67="",'Oil Production & Operations'!AD61=""),"",SUM('Gas & Low Carbon Energy'!AD67,'Oil Production & Operations'!AD61)) | AD32: =IF(AND('Data input'!$B$1<>"Q2",'Gas & Low Carbon Energy'!AE67="",'Oil Production & Operations'!AE61=""),"",SUM('Gas & Low Carbon Energy'!AE67,'Oil Production & Operations'!AE61)) -> 2269.4392
B33: bp-operated upstream plant reliability* % (YTD) | F33: 96.1 | G33: 95.3 | H33: 95.8 | I33: 96 | J33: 96 | K33: 95.5 | L33: 95 | M33: 95.7 | N33: 95 | O33: 95 | P33: 94.9 | Q33: 95.5 | R33: 95.3 | S33: 95.2 | T33: 95.2 | U33: 95.4 | V33: 96.1 | W33: 96.3 | X33: 96.1 | Y33: 96.1 | Z33: 95.7 | AA33: 94.1 | AB33: =IF('oil & gas group metrics'!AB16="","",'oil & gas group metrics'!AB16) | AC33: =IF('oil & gas group metrics'!AC16="","",'oil & gas group metrics'!AC16) | AD33: =IF('oil & gas group metrics'!AD16="","",'oil & gas group metrics'!AD16) -> 94.1
B34: bp-operated upstream plant reliability* % (Discrete) | P34: 94.9 | Q34: 96.1 | R34: 95 | S34: 94.7 | U34: 95.4 | V34: 96.8 | W34: 96.8 | X34: 95.4 | Z34: 95.7 | AA34: 92.4
B35: upstream unit production costs* ($/boe) (YTD) | F35: 6.52 | G35: 6.53 | H35: 6.25 | I35: 6.07 | J35: 6.07 | K35: 5.73 | L35: 5.94 | M35: 5.88 | N35: 5.78 | O35: 5.78 | P35: 6 | Q35: 6.17 | R35: 6.25 | S35: 6.17 | T35: 6.17 | U35: 6.34 | V35: 6.58 | W35: 6.44 | X35: 6.28 | Y35: 6.28 | Z35: 6.39 | AA35: 6.5 | AD35: =IF('oil & gas group metrics'!AD15="","",'oil & gas group metrics'!AD15) -> 6.5
B36: upstream unit production costs* ($/boe) (Discrete) | P36: 6 | Q36: 6.34 | R36: 6.4 | S36: 5.93 | U36: 6.34 | V36: 6.81 | W36: 6.19 | X36: 5.82 | Z36: 6.39 | AA36: =IF('oil & gas group metrics'!AA15="","",'oil & gas group metrics'!AA15) -> 6.62 | AB36: =IF('oil & gas group metrics'!AB15="","",'oil & gas group metrics'!AB15) | AC36: =IF('oil & gas group metrics'!AC15="","",'oil & gas group metrics'!AC15)
B37: bp-operated refining availability (%) | F37: 95 | G37: 93.9 | H37: 94.3 | I37: 95 | J37: 94.5 | K37: 96.1 | L37: 95.7 | M37: 96.3 | N37: 96.1 | O37: 96.1 | P37: 90.4 | Q37: 96.4 | R37: 95.6 | S37: 94.8 | T37: 94.3 | U37: 96.2 | V37: 96.4 | W37: 96.6 | X37: 96 | Y37: 96.3 | Z37: 96.3 | AA37: 94.7 | AD37: 95.5
B38: LNG Portfolio, Mtpa | J38: 19 | O38: 23 | T38: 23 | Y38: 27

Sheet Group income statement
B1: =Summary!$B$1 -> Financial and Operating Information 2022 - 2026
B2: Group information
Z3: Contents
B5: Group income statement by quarter
AD7: $ million
D8: Footnotes | F8: Q1 | G8: Q2 | H8: Q3 | I8: Q4 | J8: 2022 | K8: Q1 | L8: Q2 | M8: Q3 | N8: Q4 | O8: 2023 | P8: Q1 | Q8: Q2 | R8: Q3 | S8: Q4 | T8: 2024 | U8: Q1 | V8: Q2 | W8: Q3 | X8: Q4 | Y8: 2025 | Z8: Q1 | AA8: Q2 | AB8: Q3 | AC8: Q4 | AD8: 2026
B9: Sales and other operating revenues | F9: 49258 | G9: 67866 | H9: 55011 | I9: 69257 | J9: 241392 | K9: 56182 | L9: 48538 | M9: 53269 | N9: 52141 | O9: 210130 | P9: 48880 | Q9: 47299 | R9: 47254 | S9: 45752 | T9: 189185 | U9: 46905 | V9: 46627 | W9: 48420 | X9: 47383 | Y9: 189335 | Z9: 52255 | AA9: 69105 | AD9: 121360
B10: Earnings from joint ventures - after interest and tax | F10: 379 | G10: 62 | H10: 498 | I10: 189 | J10: 1128 | K10: 195 | L10: 360 | M10: -198 | N10: -290 | O10: 67 | P10: 178 | Q10: 250 | R10: 406 | S10: 75 | T10: 909 | U10: 327 | V10: 241 | W10: 176 | X10: -1044 | Y10: -300 | Z10: 323 | AA10: 438 | AD10: 761
B11: Earnings from associates - after interest and tax | F11: 871 | G11: 127 | H11: 275 | I11: 129 | J11: 1402 | K11: 173 | L11: 231 | M11: 271 | N11: 156 | O11: 831 | P11: 298 | Q11: 266 | R11: 280 | S11: 240 | T11: 1084 | U11: 249 | V11: 155 | W11: 275 | X11: 239 | Y11: 918 | Z11: 353 | AA11: 145 | AD11: 498
B12: Interest and other income | F12: 194 | G12: 142 | H12: 159 | I12: 608 | J12: 1103 | K12: 248 | L12: 378 | M12: 410 | N12: 599 | O12: 1635 | P12: 381 | Q12: 414 | R12: 438 | S12: 1540 | T12: 2773 | U12: 385 | V12: 375 | W12: 397 | X12: 452 | Y12: 1609 | Z12: 338 | AA12: 411 | AD12: 749
B13: Gains on sale of businesses and fixed assets | F13: 518 | G13: 1309 | H13: 1866 | I13: 173 | J13: 3866 | K13: 153 | L13: -28 | M13: 264 | N13: -20 | O13: 369 | P13: 224 | Q13: 21 | R13: -48 | S13: 481 | T13: 678 | U13: 14 | V13: 279 | W13: -18 | X13: 712 | Y13: 987 | Z13: 102 | AA13: 15 | AD13: 117
B14: Total revenues and other income | F14: 51220 | G14: 69506 | H14: 57809 | I14: 70356 | J14: 248891 | K14: 56951 | L14: 49479 | M14: 54016 | N14: 52586 | O14: 213032 | P14: 49961 | Q14: 48250 | R14: 48330 | S14: 48088 | T14: 194629 | U14: 47880 | V14: 47677 | W14: 49250 | X14: 47742 | Y14: 192549 | Z14: 53371 | AA14: 70114 | AD14: 123485
B15: Purchases | F15: 27808 | G15: 39141 | H15: 39993 | I15: 34101 | J15: 141043 | K15: 29122 | L15: 29172 | M15: 29951 | N15: 31062 | O15: 119307 | P15: 27647 | Q15: 28891 | R15: 30139 | S15: 27264 | T15: 113941 | U15: 27720 | V15: 26875 | W15: 28031 | X15: 28014 | Y15: 110640 | Z15: 26250 | AA15: 41149 | AD15: 67399
B16: Production and manufacturing expenses | F16: 6975 | G16: 7601 | H16: 7193 | I16: 6841 | J16: 28610 | K16: 6982 | L16: 6231 | M16: 6080 | N16: 5751 | O16: 25044 | P16: 6847 | Q16: 6692 | R16: 5004 | S16: 8041 | T16: 26584 | U16: 6114 | V16: 6153 | W16: 6620 | X16: 6759 | Y16: 25646 | Z16: 8537 | AA16: 8954 | AD16: 17491
B17: Production and similar taxes | F17: 505 | G17: 624 | H17: 639 | I17: 557 | J17: 2325 | K17: 474 | L17: 404 | M17: 456 | N17: 445 | O17: 1779 | P17: 444 | Q17: 484 | R17: 469 | S17: 402 | T17: 1799 | U17: 447 | V17: 414 | W17: 431 | X17: 406 | Y17: 1698 | Z17: 429 | AA17: 629 | AD17: 1058
B18: Depreciation, depletion and amortization | F18: 3625 | G18: 3512 | H18: 3467 | I18: 3714 | J18: 14318 | K18: 3800 | L18: 3923 | M18: 4145 | N18: 4060 | O18: 15928 | P18: 4150 | Q18: 4098 | R18: 4117 | S18: 4257 | T18: 16622 | U18: 4183 | V18: 4641 | W18: 4472 | X18: 4526 | Y18: 17822 | Z18: 4410 | AA18: 4149 | AD18: 8559
B19: Impairment and losses on sale of businesses and fixed assets | F19: 26031 | G19: 445 | H19: 417 | I19: 3629 | J19: 30522 | K19: 88 | L19: 1269 | M19: 542 | N19: 3958 | O19: 5857 | P19: 737 | Q19: 1309 | R19: 1842 | S19: 3107 | T19: 6995 | U19: 503 | V19: 1157 | W19: 753 | X19: 3624 | Y19: 6037 | Z19: 589 | AA19: 1100 | AD19: 1689
B20: Exploration expense | F20: 92 | G20: 128 | H20: 225 | I20: 140 | J20: 585 | K20: 106 | L20: 293 | M20: 97 | N20: 501 | O20: 997 | P20: 247 | Q20: 179 | R20: 372 | S20: 176 | T20: 974 | U20: 103 | V20: 139 | W20: 224 | X20: 104 | Y20: 570 | Z20: 44 | AA20: 582 | AD20: 626
... B23: Finance costs | F23: -664 | G23: -556 | H23: -649 | I23: -834 | J23: -2703 | K23: -843 | L23: -920 | M23: -1039 | N23: -1038 | O23: -3840 | P23: -1075 | Q23: -1216 | R23: -1101 | S23: -1291 | T23: -4683 | U23: -1321 | V23: -1229 | W23: -1267 | X23: -1289 | Y23: -5106 | Z23: -1175 | AA23: -1175 | AD23: -2350
B24: Net finance expense relating to pensions and other
C25: post-employment benefits | F25: 20 | G25: 17 | H25: 16 | I25: 16 | J25: 69 | K25: 58 | L25: 61 | M25: 61 | N25: 61 | O25: 241 | P25: 41 | Q25: 40 | R25: 42 | S25: 45 | T25: 168 | U25: 52 | V25: 56 | W25: 55 | X25: 47 | Y25: 210 | Z25: 54 | AA25: 55 | AD25: 109
B26: Profit (loss) before taxation | F26: -17540 | G26: 14063 | H26: 1980 | I26: 16902 | J26: 15405 | K26: 11847 | L26: 3494 | M26: 7309 | N26: 1099 | O26: 23749 | P26: 4633 | Q26: 1254 | R26: 1398 | S26: -503 | T26: 6782 | U26: 3130 | V26: 2883 | W26: 3236 | X26: -1503 | Y26: 7746 | Z26: 7365 | AA26: 7821 | AD26: 15186
B27: Taxation | F27: -2530 | G27: -4527 | H27: -3964 | I27: -5741 | J27: -16762 | K27: -3425 | L27: -1541 | M27: -2240 | N27: -663 | O27: -7869 | P27: -2224 | Q27: -1184 | R27: -1028 | S27: -1117 | T27: -5553 | U27: -2148 | V27: -954 | W27: -1727 | X27: -1622 | Y27: -6451 | Z27: -3153 | AA27: -3491 | AD27: -6644
B28: Profit (loss) for the period | F28: -20070 | G28: 9536 | H28: -1984 | I28: 11161 | J28: -1357 | K28: 8422 | L28: 1953 | M28: 5069 | N28: 436 | O28: 15880 | P28: 2409 | Q28: 70 | R28: 370 | S28: -1620 | T28: 1229 | U28: 982 | V28: 1929 | W28: 1509 | X28: -3125 | Y28: 1295 | Z28: 4212 | AA28: 4330 | AD28: 8542
B30: Attributable to
C31: bp shareholders | F31: -20384 | G31: 9257 | H31: -2163 | I31: 10803 | J31: -2487 | K31: 8218 | L31: 1792 | M31: 4858 | N31: 371 | O31: 15239 | P31: 2263 | Q31: -129 | R31: 206 | S31: -1959 | T31: 381 | U31: 687 | V31: 1629 | W31: 1161 | X31: -3422 | Y31: 55 | Z31: 3842 | AA31: 3911 | AD31: 7753
C32: Non-controlling interests | F32: 314 | G32: 279 | H32: 179 | I32: 358 | J32: 1130 | K32: 204 | L32: 161 | M32: 211 | N32: 65 | O32: 641 | P32: 146 | Q32: 199 | R32: 164 | S32: 339 | T32: 848 | U32: 295 | V32: 300 | W32: 348 | X32: 297 | Y32: 1240 | Z32: 370 | AA32: 419 | AD32: 789
F33: -20070 | G33: 9536 | H33: -1984 | I33: 11161 | J33: -1357 | K33: 8422 | L33: 1953 | M33: 5069 | N33: 436 | O33: 15880 | P33: 2409 | Q33: 70 | R33: 370 | S33: -1620 | T33: 1229 | U33: 982 | V33: 1929 | W33: 1509 | X33: -3125 | Y33: 1295 | Z33: 4212 | AA33: 4330 | AD33: 8542
B35: Earnings per share
B36: Profit (loss) for the period attributable to bp shareholders
B37: Per ordinary share (cents)
C38: Basic | F38: -104.46 | G38: 47.74 | H38: -11.45 | I38: 59.43 | J38: -13.1 | K38: 45.93 | L38: 10.22 | M38: 28.24 | N38: 2.2 | O38: 87.78 | P38: 13.57 | Q38: -0.78 | R38: 1.26 | S38: -12.33 | T38: 2.38 | U38: 4.35 | V38: 10.41 | W38: 7.48 | X38: -22.21 | Y38: 0.35 | Z38: 24.83 | AA38: 24.77 | AD38: 49.6
C39: Diluted | F39: -104.46 | G39: 47.18 | H39: -11.45 | I39: 58.36 | J39: -13.1 | K39: 45.06 | L39: 10.01 | M39: 27.59 | N39: 2.15 | O39: 85.85 | P39: 13.25 | Q39: -0.78 | R39: 1.23 | S39: -12.33 | T39: 2.32 | U39: 4.27 | V39: 10.27 | W39: 7.38 | X39: -22.21 | Y39: 0.34 | Z39: 24.53 | AA39: 24.54 | AD39: 48.99
B40: Per ADS (dollars)
C41: Basic | F41: -6.27 | G41: 2.86 | H41: -0.69 | I41: 3.57 | J41: -0.79 | K41: 2.76 | L41: 0.61 | M41: 1.69 | N41: 0.13 | O41: 5.27 | P41: 0.81 | Q41: -0.05 | R41: 0.08 | S41: -0.74 | T41: 0.14 | U41: 0.26 | V41: 0.62 | W41: 0.45 | X41: -1.33 | Y41: 0.02 | Z41: 1.49 | AA41: 1.49 | AD41: 2.98
C42: Diluted | F42: -6.27 | G42: 2.83 | H42: -0.69 | I42: 3.5 | J42: -0.79 | K42: 2.7 | L42: 0.6 | M42: 1.66 | N42: 0.13 | O42: 5.15 | P42: 0.8 | Q42: -0.05 | R42: 0.07 | S42: -0.74 | T42: 0.14 | U42: 0.26 | V42: 0.62 | W42: 0.44 | X42: -1.33 | Y42: 0.02 | Z42: 1.47 | AA42: 1.47 | AD42: 2.94

Sheet SOCI
B1: =Summary!$B$1 -> Financial and Operating Information 2022 - 2026
B2: Group information
Z3: Contents
B5: Condensed group statement of comprehensive income
AD7: $ million
D8: Footnotes | F8: Q1 | G8: Q2 | H8: Q3 | I8: Q4 | J8: 2022 | K8: Q1 | L8: Q2 | M8: Q3 | N8: Q4 | O8: 2023 | P8: Q1 | Q8: Q2 | R8: Q3 | S8: Q4 | T8: 2024 | U8: Q1 | V8: Q2 | W8: Q3 | X8: Q4 | Y8: 2025 | Z8: Q1 | AA8: Q2 | AB8: Q3 | AC8: Q4 | AD8: 2026
B11: Profit (loss) for the period | F11: -20070 | G11: 9536 | H11: -1984 | I11: 11161 | J11: -1357 | K11: 8422 | L11: 1953 | M11: 5069 | N11: 436 | O11: 15880 | P11: 2409 | Q11: 70 | R11: 370 | S11: -1620 | T11: 1229 | U11: 982 | V11: 1929 | W11: 1509 | X11: -3125 | Y11: 1295 | Z11: 4212 | AA11: 4330 | AD11: 8542
B12: Other comprehensive income
B13: Items that may be reclassified subsequently to profit or loss
C14: Currency translation differences | D14: =Footnotes!B6 -> a | F14: -1749 | G14: -2454 | H14: -1725 | I14: 2142 | J14: -3786 | K14: 453 | L14: 11 | M14: -590 | N14: 711 | O14: 585 | P14: -448 | Q14: -142 | R14: 838 | S14: -1540 | T14: -1292 | U14: 819 | V14: 1323 | W14: -276 | X14: -3 | Y14: 1863 | Z14: -191 | AA14: 65 | AD14: -126
C15: Exchange (gains) losses on translation of foreign operations reclassified | D15: =Footnotes!B7 -> b
C16: to gain or loss on sale of businesses and fixed assets | F16: 10791 | G16: 0 | H16: 0 | I16: -32 | J16: 10759 | K16: 0 | L16: 0 | M16: -2 | N16: 0 | O16: -2 | P16: 0 | Q16: 0 | R16: 0 | S16: 1004 | T16: 1004 | U16: 0 | V16: 0 | W16: 22 | X16: 19 | Y16: 41 | Z16: 0 | AA16: 2 | AD16: 2
C17: Cash flow hedges and costs of hedging | F17: 222 | G17: 99 | H17: -142 | I17: 584 | J17: 763 | K17: 546 | L17: -56 | M17: -56 | N17: 125 | O17: 559 | P17: -115 | Q17: -100 | R17: -111 | S17: -209 | T17: -535 | U17: -185 | V17: 235 | W17: 134 | X17: 37 | Y17: 221 | Z17: 159 | AA17: -8 | AD17: 151
C18: Share of items relating to equity-accounted entities, net of tax | F18: 85 | G18: 59 | H18: -134 | I18: 392 | J18: 402 | K18: -203 | L18: -27 | M18: 25 | N18: 13 | O18: -192 | P18: -8 | Q18: 10 | R18: -41 | S18: 27 | T18: -12 | U18: 1 | V18: 3 | W18: -5 | X18: -3 | Y18: -4 | Z18: 7 | AA18: -1 | AD18: 6
C19: Income tax relating to items that may be reclassified | F19: -102 | G19: -70 | H19: -54 | I19: -108 | J19: -334 | K19: -76 | L19: 71 | M19: -69 | N19: 64 | O19: -10 | P19: -4 | Q19: 40 | R19: 91 | S19: -79 | T19: 48 | U19: 42 | V19: -57 | W19: -3 | X19: -4 | Y19: -22 | Z19: -14 | AA19: -15 | AD19: -29
F20: 9247 | G20: -2366 | H20: -2055 | I20: 2978 | J20: 7804 | K20: 720 | L20: -1 | M20: -692 | N20: 913 | O20: 940 | P20: -575 | Q20: -192 | R20: 777 | S20: -797 | T20: -787 | U20: 677 | V20: 1504 | W20: -128 | X20: 46 | Y20: 2099 | Z20: -39 | AA20: 43 | AD20: 4
B21: Items that will not be reclassified to profit or loss
C22: Remeasurements of the net pension and other post-employment benefit liability or asset | F22: 2128 | G22: -392 | H22: 112 | I22: -1508 | J22: 340 | K22: -87 | L22: -855 | M22: -111 | N22: -1209 | O22: -2262 | P22: -66 | Q22: -240 | R22: -51 | S22: -3 | T22: -360 | U22: 331 | V22: -214 | W22: -447 | X22: 109 | Y22: -221 | Z22: 119 | AA22: -364 | AD22: -245
C23: Remeasurements of equity investments | F23: 0 | G23: 0 | H23: 0 | I23: 0 | J23: 0 | K23: 0 | L23: 0 | M23: 0 | N23: 51 | O23: 51 | P23: -13 | Q23: -17 | R23: -8 | S23: -9 | T23: -47 | U23: -1 | V23: 2 | W23: 0 | X23: -7 | Y23: -6 | Z23: -1 | AA23: 3 | AD23: 2
C24: Share of items relating to equity-accounted entities, net of tax | F24: 0 | G24: 0 | H24: 0 | I24: 0 | J24: 0 | K24: 0 | L24: 0 | M24: 0 | N24: 0 | O24: 0 | P24: 0 | Q24: 0 | R24: 0 | S24: 0 | T24: 0 | U24: 0 | V24: 0 | W24: 0 | X24: 0 | Y24: 0 | Z24: 0 | AA24: 0 | AD24: 0
C25: Cash flow hedges that will subsequently be transferred to the balance sheet | F25: -1 | G25: -3 | H25: -1 | I25: 1 | J25: -4 | K25: 0 | L25: 0 | M25: -1 | N25: 16 | O25: 15 | P25: -3 | Q25: 0 | R25: 10 | S25: -8 | T25: -1 | U25: 2 | V25: 2 | W25: -1 | X25: 2 | Y25: 5 | Z25: 3 | AA25: 0 | AD25: 3
C26: Income tax relating to items that will not be reclassified | D26: =Footnotes!B8 -> c | F26: -668 | G26: 179 | H26: 19 | I26: 538 | J26: 68 | K26: 23 | L26: 308 | M26: 57 | N26: 357 | O26: 745 | P26: 674 | Q26: 59 | R26: 12 | S26: -11 | T26: 734 | U26: -95 | V26: 52 | W26: 126 | X26: -28 | Y26: 55 | Z26: -37 | AA26: 91 | AD26: 54
F27: 1459 | G27: -216 | H27: 130 | I27: -969 | J27: 404 | K27: -64 | L27: -547 | M27: -55 | N27: -785 | O27: -1451 | P27: 592 | Q27: -198 | R27: -37 | S27: -31 | T27: 326 | U27: 237 | V27: -158 | W27: -322 | X27: 76 | Y27: -167 | Z27: 84 | AA27: -270 | AD27: -186
B28: Other comprehensive income | F28: 10706 | G28: -2582 | H28: -1925 | I28: 2009 | J28: 8208 | K28: 656 | L28: -548 | M28: -747 | N28: 128 | O28: -511 | P28: 17 | Q28: -390 | R28: 740 | S28: -828 | T28: -461 | U28: 914 | V28: 1346 | W28: -450 | X28: 122 | Y28: 1932 | Z28: 45 | AA28: -227 | AD28: -182
B29: Total comprehensive income | F29: -9364 | G29: 6954 | H29: -3909 | I29: 13170 | J29: 6851 | K29: 9078 | L29: 1405 | M29: 4322 | N29: 564 | O29: 15369 | P29: 2426 | Q29: -320 | R29: 1110 | S29: -2448 | T29: 768 | U29: 1896 | V29: 3275 | W29: 1059 | X29: -3003 | Y29: 3227 | Z29: 4257 | AA29: 4103 | AD29: 8360
B30: Attributable to
C31: bp shareholders | F31: -9678 | G31: 6742 | H31: -4042 | I31: 12760 | J31: 5782 | K31: 8861 | L31: 1240 | M31: 4140 | N31: 461 | O31: 14702 | P31: 2303 | Q31: -520 | R31: 922 | S31: -2698 | T31: 7 | U31: 1556 | V31: 2883 | W31: 726 | X31: -3293 | Y31: 1872 | Z31: 3916 | AA31: 3700 | AD31: 7616
C32: Non-controlling interests | F32: 314 | G32: 212 | H32: 133 | I32: 410 | J32: 1069 | K32: 217 | L32: 165 | M32: 182 | N32: 103 | O32: 667 | P32: 123 | Q32: 200 | R32: 188 | S32: 250 | T32: 761 | U32: 340 | V32: 392 | W32: 333 | X32: 290 | Y32: 1355 | Z32: 341 | AA32: 403 | AD32: 744
F33: -9364 | G33: 6954 | H33: -3909 | I33: 13170 | J33: 6851 | K33: 9078 | L33: 1405 | M33: 4322 | N33: 564 | O33: 15369 | P33: 2426 | Q33: -320 | R33: 1110 | S33: -2448 | T33: 768 | U33: 1896 | V33: 3275 | W33: 1059 | X33: -3003 | Y33: 3227 | Z33: 4257 | AA33: 4103 | AD33: 8360

Sheet Summarized reported results
B1: =Summary!$B$1 -> Financial and Operating Information 2022 - 2026
B2: Group information
P3: Contents
B5: Analysis of RC profit (loss) before interest and tax
AE7: $ million
E8: Footnotes | G8: Q1 | H8: Q2 | I8: Q3 | J8: Q4 | K8: 2022 | L8: Q1 | M8: Q2 | N8: Q3 | O8: Q4 | P8: 2023 | Q8: Q1 | R8: Q2 | S8: Q3 | T8: Q4 | U8: 2024 | V8: Q1 | W8: Q2 | X8: Q3 | Y8: Q4 | Z8: 2025 | AA8: Q1 | AB8: Q2 | AC8: Q3 | AD8: Q4 | AE8: 2026
B10: RC profit (loss) before interest and tax
D11: gas & low carbon energy | E11: =Footnotes!B9 -> a | G11: -1524 | H11: 2737 | I11: -2956 | J11: 16439 | K11: 14696 | L11: 7347 | M11: 2289 | N11: 2275 | O11: 2169 | P11: 14080 | Q11: 1036 | R11: -315 | S11: 1007 | T11: 1324 | U11: 3052 | V11: 1358 | W11: 1047 | X11: 1097 | Y11: -2172 | Z11: 1330 | AA11: 1054 | AB11: 1564 | AE11: 2618
D12: oil production & operations | G12: 3831 | H12: 7237 | I12: 6965 | J12: 1688 | K12: 19721 | L12: 3317 | M12: 2568 | N12: 3427 | O12: 1879 | P12: 11191 | Q12: 3060 | R12: 3267 | S12: 1891 | T12: 2571 | U12: 10789 | V12: 2788 | W12: 1916 | X12: 2119 | Y12: 1735 | Z12: 8558 | AA12: 1655 | AB12: 3397 | AE12: 5052
D13: customers & products | E13: =Footnotes!B9 -> a | G13: 1981 | H13: 3531 | I13: 2586 | J13: 771 | K13: 8869 | L13: 2680 | M13: 555 | N13: 1549 | O13: -554 | P13: 4230 | Q13: 988 | R13: -133 | S13: 23 | T13: -1921 | U13: -1043 | V13: 103 | W13: 972 | X13: 1610 | Y13: 1415 | Z13: 4100 | AA13: 2452 | AB13: 5100 | AE13: 7552
D14: other businesses & corporate | G14: -24719 | H14: -1028 | I14: -1093 | J14: 103 | K14: -26737 | L14: -90 | M14: -297 | N14: -500 | O14: -16 | P14: -903 | Q14: -300 | R14: -180 | S14: 653 | T14: -1161 | U14: -988 | V14: -22 | W14: 645 | X14: -277 | Y14: -386 | Z14: -40 | AA14: -855 | AB14: -250 | AE14: -1105
D15: Consolidation adjustment - UPII | G15: 34 | H15: -21 | I15: -21 | J15: 147 | K15: 139 | L15: -22 | M15: -30 | N15: -57 | O15: 95 | P15: -14 | Q15: 32 | R15: -73 | S15: 65 | T15: -49 | U15: -25 | V15: 13 | W15: 30 | X15: -19 | Y15: 21 | Z15: 45 | AA15: 21 | AB15: 0 | AE15: 21
B16: RC profit (loss) before interest and tax | G16: -20397 | H16: 12456 | I16: 5481 | J16: 19148 | K16: 16688 | L16: 13232 | M16: 5085 | N16: 6694 | O16: 3573 | P16: 28584 | Q16: 4816 | R16: 2566 | S16: 3639 | T16: 764 | U16: 11785 | V16: 4240 | W16: 4610 | X16: 4530 | Y16: 613 | Z16: 13993 | AA16: 4327 | AB16: 9811 | AE16: 14138
B17: Finance costs and net finance expense relating to
D18: pensions and other post-employment benefits | G18: -644 | H18: -539 | I18: -633 | J18: -818 | K18: -2634 | L18: -785 | M18: -859 | N18: -978 | O18: -977 | P18: -3599 | Q18: -1034 | R18: -1176 | S18: -1059 | T18: -1246 | U18: -4515 | V18: -1269 | W18: -1173 | X18: -1212 | Y18: -1242 | Z18: -4896 | AA18: -1121 | AB18: -1120 | AE18: -2241
B19: RC profit (loss) before taxation | G19: -21041 | H19: 11917 | I19: 4848 | J19: 18330 | K19: 14054 | L19: 12447 | M19: 4226 | N19: 5716 | O19: 2596 | P19: 24985 | Q19: 3782 | R19: 1390 | S19: 2580 | T19: -482 | U19: 7270 | V19: 2971 | W19: 3437 | X19: 3318 | Y19: -629 | Z19: 9097 | AA19: =IF(AND(AA16="",AA18=""),"",AA16+AA18) -> 3206 | AB19: =IF(AND(AB16="",AB18=""),"",AB16+AB18) -> 8691 | AC19: =IF(AND(AC16="",AC18=""),"",AC16+AC18) | AD19: =IF(AND(AD16="",AD18=""),"",AD16+AD18) | AE19: =IF(AND(AE16="",AE18=""),"",AE16+AE18) -> 11897
B20: Taxation on a RC basis | G20: -1693 | H20: -3988 | I20: -4646 | J20: -6103 | K20: -16430 | L20: -3573 | M20: -1724 | N20: -1859 | O20: -1005 | P20: -8161 | Q20: -2030 | R20: -1207 | S20: -1304 | T20: -1131 | U20: -5672 | V20: -2107 | W20: -1101 | X20: -1747 | Y20: -1830 | Z20: -6785 | AA20: -2174 | AB20: -3644 | AE20: -5818
B21: RC profit (loss) for the period | G21: -22734 | H21: 7929 | I21: 202 | J21: 12227 | K21: -2376 | L21: 8874 | M21: 2502 | N21: 3857 | O21: 1591 | P21: 16824 | Q21: 1752 | R21: 183 | S21: 1276 | T21: -1613 | U21: 1598 | V21: 864 | W21: 2336 | X21: 1571 | Y21: -2459 | Z21: 2312 | AA21: =IF(AND(AA19="",AA20=""),"",AA19+AA20) -> 1032 | AB21: =IF(AND(AB19="",AB20=""),"",AB19+AB20) -> 5047 | AC21: =IF(AND(AC19="",AC20=""),"",AC19+AC20) | AD21: =IF(AND(AD19="",AD20=""),"",AD19+AD20) | AE21: =IF(AND(AE19="",AE20=""),"",AE19+AE20) -> 6079
B22: Attributable to
D23: bp shareholders | G23: -23048 | H23: 7650 | I23: 23 | J23: 11869 | K23: -3506 | L23: 8670 | M23: 2341 | N23: 3646 | O23: 1526 | P23: 16183 | Q23: 1606 | R23: -16 | S23: 1112 | T23: -1952 | U23: 750 | V23: 569 | W23: 2036 | X23: 1223 | Y23: -2756 | Z23: 1072 | AA23: 662 | AB23: 4628 | AE23: 5290
D24: Non-controlling interests | G24: 314 | H24: 279 | I24: 179 | J24: 358 | K24: 1130 | L24: 204 | M24: 161 | N24: 211 | O24: 65 | P24: 641 | Q24: 146 | R24: 199 | S24: 164 | T24: 339 | U24: 848 | V24: 295 | W24: 300 | X24: 348 | Y24: 297 | Z24: 1240 | AA24: 370 | AB24: 419 | AE24: 789
B25: RC profit (loss) for the period | G25: -22734 | H25: 7929 | I25: 202 | J25: 12227 | K25: -2376 | L25: 8874 | M25: 2502 | N25: 3857 | O25: 1591 | P25: 16824 | Q25: 1752 | R25: 183 | S25: 1276 | T25: -1613 | U25: 1598 | V25: 864 | W25: 2336 | X25: 1571 | Y25: -2459 | Z25: 2312 | AA25: =IF(AND(AA23="",AA24=""),"",AA23+AA24) -> 1032 | AB25: =IF(AND(AB23="",AB24=""),"",AB23+AB24) -> 5047 | AC25: =IF(AND(AC23="",AC24=""),"",AC23+AC24) | AD25: =IF(AND(AD23="",AD24=""),"",AD23+AD24) | AE25: =IF(AND(AE23="",AE24=""),"",AE23+AE24) -> 6079
B26: Earnings on RC profit (loss)
D27: per ordinary share – cents | G27: -118.11 | H27: 39.45 | I27: 0.12 | J27: 65.29 | K27: -18.47 | L27: 48.46 | M27: 13.35 | N27: 21.19 | O27: 9.06 | P27: 93.21 | Q27: 9.65 | R27: -0.1 | S27: 6.81 | T27: -12.29 | U27: 4.63 | V27: 3.61 | W27: 13.01 | X27: 7.88 | Y27: -17.88 | Z27: 6.87 | AA27: 4.28 | AB27: 29.39 | AE27: 33.71
D28: per ADS – dollars | G28: -7.09 | H28: 2.37 | I28: 0.01 | J28: 3.92 | K28: -1.11 | L28: 2.91 | M28: 0.8 | N28: 1.27 | O28: 0.54 | P28: 5.59 | Q28: 0.58 | R28: -0.01 | S28: 0.41 | T28: -0.74 | U28: 0.28 | V28: 0.22 | W28: 0.78 | X28: 0.47 | Y28: -1.07 | Z28: 0.41 | AA28: 0.26 | AB28: 1.76 | AE28: 2.02
B29: RC profit (loss) for the period | G29: -22734 | H29: 7929 | I29: 202 | J29: 12227 | K29: -2376 | L29: 8874 | M29: 2502 | N29: 3857 | O29: 1591 | P29: 16824 | Q29: 1752 | R29: 183 | S29: 1276 | T29: -1613 | U29: 1598 | V29: 864 | W29: 2336 | X29: 1571 | Y29: -2459 | Z29: 2312 | AA29: =AA25 -> 1032 | AB29: =AB25 -> 5047 | AC29: =AC25 | AD29: =AD25 | AE29: =AE25 -> 6079
B30: Inventory holding gains (losses) | G30: 3501 | H30: 2146 | I30: -2868 | J30: -1428 | K30: 1351 | L30: -600 | M30: -732 | N30: 1593 | O30: -1497 | P30: -1236 | Q30: 851 | R30: -136 | S30: -1182 | T30: -21 | U30: -488 | V30: 159 | W30: -554 | X30: -82 | Y30: -874 | Z30: -1351 | AA30: 4159 | AB30: -870 | AE30: 3289
B31: Taxation (charge) credit on inventory holding gains and losses | G31: -837 | H31: -539 | I31: 682 | J31: 362 | K31: -332 | L31: 148 | M31: 183 | N31: -381 | O31: 342 | P31: 292 | Q31: -194 | R31: 23 | S31: 276 | T31: 14 | U31: 119 | V31: -41 | W31: 147 | X31: 20 | Y31: 208 | Z31: 334 | AA31: -979 | AB31: 153 | AE31: -826
B32: Profit (loss) for the period | G32: -20070 | H32: 9536 | I32: -1984 | J32: 11161 | K32: -1357 | L32: 8422 | M32: 1953 | N32: 5069 | O32: 436 | P32: 15880 | Q32: 2409 | R32: 70 | S32: 370 | T32: -1620 | U32: 1229 | V32: 982 | W32: 1929 | X32: 1509 | Y32: -3125 | Z32: 1295 | AA32: 4212 | AB32: 4330 | AE32: 8542
B33: Earnings on profit (loss)
C34: per ordinary share – cents
D35: Basic | G35: -104.46 | H35: 47.74 | I35: -11.45 | J35: 59.43 | K35: -13.1 | L35: 45.93 | M35: 10.22 | N35: 28.24 | O35: 2.2 | P35: 87.78 | Q35: 13.57 | R35: -0.78 | S35: 1.26 | T35: -12.33 | U35: 2.38 | V35: 4.35 | W35: 10.41 | X35: 7.48 | Y35: -22.21 | Z35: 0.35 | AA35: 24.83 | AB35: 24.77 | AE35: 49.6
D36: Diluted | G36: -104.46 | H36: 47.18 | I36: -11.45 | J36: 58.36 | K36: -13.1 | L36: 45.06 | M36: 10.01 | N36: 27.59 | O36: 2.15 | P36: 85.85 | Q36: 13.25 | R36: -0.78 | S36: 1.23 | T36: -12.33 | U36: 2.32 | V36: 4.27 | W36: 10.27 | X36: 7.38 | Y36: -22.21 | Z36: 0.34 | AA36: 24.53 | AB36: 24.54 | AE36: 48.99
C37: per ADS – dollars
D38: Basic | G38: -6.27 | H38: 2.86 | I38: -0.69 | J38: 3.57 | K38: -0.79 | L38: 2.76 | M38: 0.61 | N38: 1.69 | O38: 0.13 | P38: 5.27 | Q38: 0.81 | R38: -0.05 | S38: 0.08 | T38: -0.74 | U38: 0.14 | V38: 0.26 | W38: 0.62 | X38: 0.45 | Y38: -1.33 | Z38: 0.02 | AA38: 1.49 | AB38: 1.49 | AE38: 2.98
D39: Diluted | G39: -6.27 | H39: 2.83 | I39: -0.69 | J39: 3.5 | K39: -0.79 | L39: 2.7 | M39: 0.6 | N39: 1.66 | O39: 0.13 | P39: 5.15 | Q39: 0.8 | R39: -0.05 | S39: 0.07 | T39: -0.74 | U39: 0.14 | V39: 0.26 | W39: 0.62 | X39: 0.44 | Y39: -1.33 | Z39: 0.02 | AA39: 1.47 | AB39: 1.47 | AE39: 2.94
B41: ETR on replacement cost profit or loss | G41: -0.080461955 | H41: 0.33464798 | I41: 0.95833333 | J41: 0.33295145 | K41: 1.1690622 | L41: 0.28705712 | M41: 0.40795078 | N41: 0.32522743 | O41: 0.38713405 | P41: 0.32663598 | Q41: 0.53675304 | R41: 0.86834532 | S41: 0.50542636 | T41: -2.346473 | U41: 0.78019257 | V41: 0.70918883 | W41: 0.3203375 | X41: 0.526522 | Y41: -2.90938 | Z41: 0.74585028 | AA41: =IF(AND(AA19="",AA20=""),"",-AA20/AA19) -> 0.67810356 | AB41: =IF(AND(AB19="",AB20=""),"",-AB20/AB19) -> 0.41928432 | AC41: =IF(AND(AC19="",AC20=""),"",-AC20/AC19) | AD41: =IF(AND(AD19="",AD20=""),"",-AD20/AD19) | AE41: =IF(AND(AE19="",AE20=""),"",-AE20/AE19) -> 0.48903085
B44: Analysis of underlying RC profit before interest and tax
AE46: $ million
E47: Footnote | G47: Q1 | H47: Q2 | I47: Q3 | J47: Q4 | K47: 2022 | L47: Q1 | M47: Q2 | N47: Q3 | O47: Q4 | P47: 2023 | Q47: Q1 | R47: Q2 | S47: Q3 | T47: Q4 | U47: 2024 | V47: Q1 | W47: Q2 | X47: Q3 | Y47: Q4 | Z47: 2025 | AA47: Q1 | AB47: Q2 | AC47: Q3 | AD47: Q4 | AE47: 2026
...

Sheet Replacement cost profit
B1: =Summary!$B$1 -> Financial and Operating Information 2022 - 2026
B2: Group information
Z3: Contents
B5: Replacement cost profit (loss) before interest and tax by segment and geographical area
AD7: $ million
D8: Footnotes | F8: Q1 | G8: Q2 | H8: Q3 | I8: Q4 | J8: 2022 | K8: Q1 | L8: Q2 | M8: Q3 | N8: Q4 | O8: 2023 | P8: Q1 | Q8: Q2 | R8: Q3 | S8: Q4 | T8: 2024 | U8: Q1 | V8: Q2 | W8: Q3 | X8: Q4 | Y8: 2025 | Z8: Q1 | AA8: Q2 | AB8: Q3 | AC8: Q4 | AD8: 2026
B10: gas & low carbon energy
C11: US | D11: =Footnotes!B10 -> a | F11: 715 | G11: 175 | H11: 464 | I11: -1225 | J11: 129 | K11: 846 | L11: 782 | M11: -838 | N11: -114 | O11: 676 | P11: 66 | Q11: -262 | R11: 117 | S11: -980 | T11: -1059 | U11: 336 | V11: 205 | W11: -305 | X11: -1606 | Y11: -1370 | Z11: -54 | AA11: 150 | AD11: 96
C12: Non-US | F12: -2239 | G12: 2562 | H12: -3420 | I12: 17664 | J12: 14567 | K12: 6501 | L12: 1507 | M12: 3113 | N12: 2283 | O12: 13404 | P12: 970 | Q12: -53 | R12: 890 | S12: 2304 | T12: 4111 | U12: 1022 | V12: 842 | W12: 1402 | X12: -566 | Y12: 2700 | Z12: 1108 | AA12: 1414 | AD12: 2522
D13: =Footnotes!B10 -> a | F13: -1524 | G13: 2737 | H13: -2956 | I13: 16439 | J13: 14696 | K13: 7347 | L13: 2289 | M13: 2275 | N13: 2169 | O13: 14080 | P13: 1036 | Q13: -315 | R13: 1007 | S13: 1324 | T13: 3052 | U13: 1358 | V13: 1047 | W13: 1097 | X13: -2172 | Y13: 1330 | Z13: 1054 | AA13: 1564 | AD13: 2618
B14: oil production & operations
C15: US | F15: 1256 | G15: 1671 | H15: 2052 | I15: 1689 | J15: 6668 | K15: 994 | L15: 908 | M15: 1492 | N15: 870 | O15: 4264 | P15: 1252 | Q15: 1484 | R15: 990 | S15: 1539 | T15: 5265 | U15: 1236 | V15: 984 | W15: 833 | X15: 772 | Y15: 3825 | Z15: 634 | AA15: 1820 | AD15: 2454
C16: Non-US | F16: 2575 | G16: 5566 | H16: 4913 | I16: -1 | J16: 13053 | K16: 2323 | L16: 1660 | M16: 1935 | N16: 1009 | O16: 6927 | P16: 1808 | Q16: 1783 | R16: 901 | S16: 1032 | T16: 5524 | U16: 1552 | V16: 932 | W16: 1286 | X16: 963 | Y16: 4733 | Z16: 1021 | AA16: 1577 | AD16: 2598
F17: 3831 | G17: 7237 | H17: 6965 | I17: 1688 | J17: 19721 | K17: 3317 | L17: 2568 | M17: 3427 | N17: 1879 | O17: 11191 | P17: 3060 | Q17: 3267 | R17: 1891 | S17: 2571 | T17: 10789 | U17: 2788 | V17: 1916 | W17: 2119 | X17: 1735 | Y17: 8558 | Z17: 1655 | AA17: 3397 | AD17: 5052
B18: customers & products
C19: US | D19: =Footnotes!B10 -> a | F19: 515 | G19: 1805 | H19: 1541 | I19: 1194 | J19: 5055 | K19: 1378 | L19: 755 | M19: 937 | N19: 1124 | O19: 4194 | P19: 458 | Q19: 465 | R19: 182 | S19: -406 | T19: 699 | U19: 211 | V19: 531 | W19: 382 | X19: 495 | Y19: 1619 | Z19: 1104 | AA19: 2040 | AD19: 3144
C20: Non-US | F20: 1466 | G20: 1726 | H20: 1045 | I20: -423 | J20: 3814 | K20: 1302 | L20: -200 | M20: 612 | N20: -1678 | O20: 36 | P20: 530 | Q20: -598 | R20: -159 | S20: -1515 | T20: -1742 | U20: -108 | V20: 441 | W20: 1228 | X20: 920 | Y20: 2481 | Z20: 1348 | AA20: 3060 | AD20: 4408
D21: =Footnotes!B10 -> a | F21: 1981 | G21: 3531 | H21: 2586 | I21: 771 | J21: 8869 | K21: 2680 | L21: 555 | M21: 1549 | N21: -554 | O21: 4230 | P21: 988 | Q21: -133 | R21: 23 | S21: -1921 | T21: -1043 | U21: 103 | V21: 972 | W21: 1610 | X21: 1415 | Y21: 4100 | Z21: 2452 | AA21: 5100 | AD21: 7552
B22: other businesses & corporate
C23: US | F23: -171 | G23: -353 | H23: -105 | I23: -250 | J23: -879 | K23: -152 | L23: -196 | M23: -106 | N23: -750 | O23: -1204 | P23: -179 | Q23: -138 | R23: -162 | S23: -256 | T23: -735 | U23: -251 | V23: -323 | W23: -247 | X23: -581 | Y23: -1402 | Z23: -177 | AA23: -284 | AD23: -461
C24: Non-US | F24: -24548 | G24: -675 | H24: -988 | I24: 353 | J24: -25858 | K24: 62 | L24: -101 | M24: -394 | N24: 734 | O24: 301 | P24: -121 | Q24: -42 | R24: 815 | S24: -905 | T24: -253 | U24: 229 | V24: 968 | W24: -30 | X24: 195 | Y24: 1362 | Z24: -678 | AA24: 34 | AD24: -644
F25: -24719 | G25: -1028 | H25: -1093 | I25: 103 | J25: -26737 | K25: -90 | L25: -297 | M25: -500 | N25: -16 | O25: -903 | P25: -300 | Q25: -180 | R25: 653 | S25: -1161 | T25: -988 | U25: -22 | V25: 645 | W25: -277 | X25: -386 | Y25: -40 | Z25: -855 | AA25: -250 | AD25: -1105
F26: -20431 | G26: 12477 | H26: 5502 | I26: 19001 | J26: 16549 | K26: 13254 | L26: 5115 | M26: 6751 | N26: 3478 | O26: 28598 | P26: 4784 | Q26: 2639 | R26: 3574 | S26: 813 | T26: 11810 | U26: 4227 | V26: 4580 | W26: 4549 | X26: 592 | Y26: 13948 | Z26: =IF(AND(Z25="",Z21="",Z17="",Z13=""),"",Z25+Z21+Z17+Z13) -> 4306 | AA26: =IF(AND(AA25="",AA21="",AA17="",AA13=""),"",AA25+AA21+AA17+AA13) -> 9811 | AB26: =IF(AND(AB25="",AB21="",AB17="",AB13=""),"",AB25+AB21+AB17+AB13) | AC26: =IF(AND(AC25="",AC21="",AC17="",AC13=""),"",AC25+AC21+AC17+AC13) | AD26: =IF(AND(AD25="",AD21="",AD17="",AD13=""),"",AD25+AD21+AD17+AD13) -> 14117
B27: Consolidation adjustment - UPII | F27: 34 | G27: -21 | H27: -21 | I27: 147 | J27: 139 | K27: -22 | L27: -30 | M27: -57 | N27: 95 | O27: -14 | P27: 32 | Q27: -73 | R27: 65 | S27: -49 | T27: -25 | U27: 13 | V27: 30 | W27: -19 | X27: 21 | Y27: 45 | Z27: 21 | AA27: 0 | AD27: 21
B28: Replacement cost profit (loss) before interest and tax | F28: -20397 | G28: 12456 | H28: 5481 | I28: 19148 | J28: 16688 | K28: 13232 | L28: 5085 | M28: 6694 | N28: 3573 | O28: 28584 | P28: 4816 | Q28: 2566 | R28: 3639 | S28: 764 | T28: 11785 | U28: 4240 | V28: 4610 | W28: 4530 | X28: 613 | Y28: 13993 | Z28: 4327 | AA28: 9811 | AD28: 14138
J29: 0 | O29: 0 | T29: 0 | Y29: 0 | AD29: =Z29 -> 0
B30: By geographical area | J30: 0 | O30: 0 | T30: 0 | Y30: 0 | AD30: =Z30 -> 0
C31: US | F31: 2277 | G31: 3322 | H31: 3954 | I31: 1404 | J31: 10957 | K31: 3075 | L31: 2244 | M31: 1467 | N31: 1154 | O31: 7940 | P31: 1610 | Q31: 1545 | R31: 1122 | S31: -117 | T31: 4160 | U31: 1533 | V31: 1417 | W31: 632 | X31: -895 | Y31: 2687 | Z31: 1521 | AA31: 3727 | AD31: 5248
C32: Non-US | F32: -22674 | G32: 9134 | H32: 1527 | I32: 17744 | J32: 5731 | K32: 10157 | L32: 2841 | M32: 5227 | N32: 2419 | O32: 20644 | P32: 3206 | Q32: 1021 | R32: 2517 | S32: 881 | T32: 7625 | U32: 2707 | V32: 3193 | W32: 3898 | X32: 1508 | Y32: 11306 | Z32: 2806 | AA32: 6084 | AD32: 8890
B33: Replacement cost profit (loss) before interest and tax | F33: -20397 | G33: 12456 | H33: 5481 | I33: 19148 | J33: 16688 | K33: 13232 | L33: 5085 | M33: 6694 | N33: 3573 | O33: 28584 | P33: 4816 | Q33: 2566 | R33: 3639 | S33: 764 | T33: 11785 | U33: 4240 | V33: 4610 | W33: 4530 | X33: 613 | Y33: 13993 | Z33: 4327 | AA33: 9811 | AD33: 14138

Sheet Underlying RC profit
B1: =Summary!$B$1 -> Financial and Operating Information 2022 - 2026
B2: Group information
P3: Contents
B5: Underlying replacement cost profit (loss) by segment and geographical area
AE7: $ million
E8: Footnotes | G8: Q1 | H8: Q2 | I8: Q3 | J8: Q4 | K8: 2022 | L8: Q1 | M8: Q2 | N8: Q3 | O8: Q4 | P8: 2023 | Q8: Q1 | R8: Q2 | S8: Q3 | T8: Q4 | U8: 2024 | V8: Q1 | W8: Q2 | X8: Q3 | Y8: Q4 | Z8: 2025 | AA8: Q1 | AB8: Q2 | AC8: Q3 | AD8: Q4 | AE8: 2026
B9: By segment
B10: gas & low carbon energy
C11: US | G11: 652 | H11: 490 | I11: 574 | J11: -139 | K11: 1577 | L11: 466 | M11: 351 | N11: -63 | O11: 314 | P11: 1068 | Q11: 220 | R11: 78 | S11: 78 | T11: -123 | U11: 253 | V11: 232 | W11: 160 | X11: -105 | Y11: 10 | Z11: 297 | AA11: 160 | AB11: 65 | AE11: 225
C12: Non-US | G12: 2943 | H12: 2590 | I12: 5666 | J12: 3287 | K12: 14486 | L12: 2990 | M12: 1882 | N12: 1319 | O12: 1463 | P12: 7654 | Q12: 1438 | R12: 1324 | S12: 1678 | T12: 2110 | U12: 6550 | V12: 765 | W12: 1302 | X12: 1624 | Y12: 1379 | Z12: 5070 | AA12: 1176 | AB12: 2057 | AE12: 3233
B13: gas & low carbon energy URCP before taxation | G13: 3595 | H13: 3080 | I13: 6240 | J13: 3148 | K13: 16063 | L13: 3456 | M13: 2233 | N13: 1256 | O13: 1777 | P13: 8722 | Q13: 1658 | R13: 1402 | S13: 1756 | T13: 1987 | U13: 6803 | V13: 997 | W13: 1462 | X13: 1519 | Y13: 1389 | Z13: 5367 | AA13: 1336 | AB13: 2122 | AE13: 3458
C14: Taxation | G14: 1009 | H14: 717 | I14: 1478 | J14: 1163 | K14: 4367 | L14: 961 | M14: 575 | N14: 448 | O14: 746 | P14: 2730 | Q14: 518 | R14: 369 | S14: 545 | T14: 705 | U14: 2137 | V14: 471 | W14: 509 | X14: 529 | Y14: 463 | Z14: 1972 | AA14: 473 | AB14: 706 | AE14: 1179
B15: gas & low carbon energy URCP post taxation | G15: 2586 | H15: 2363 | I15: 4762 | J15: 1985 | K15: 11696 | L15: 2495 | M15: 1658 | N15: 808 | O15: 1031 | P15: 5992 | Q15: 1140 | R15: 1033 | S15: 1211 | T15: 1282 | U15: 4666 | V15: 526 | W15: 953 | X15: 990 | Y15: 926 | Z15: 3395 | AA15: 863 | AB15: 1416 | AE15: 2279
B17: oil production & operations
C18: US | G18: 1090 | H18: 1945 | I18: 1967 | J18: 1531 | K18: 6533 | L18: 995 | M18: 947 | N18: 1367 | O18: 1501 | P18: 4810 | Q18: 1262 | R18: 1319 | S18: 1072 | T18: 1201 | U18: 4854 | V18: 1254 | W18: 858 | X18: 936 | Y18: 816 | Z18: 3864 | AA18: 727 | AB18: 1818 | AE18: 2545
C19: Non-US | G19: 3593 | H19: 3957 | I19: 3244 | J19: 2897 | K19: 13691 | L19: 2324 | M19: 1830 | N19: 1769 | O19: 2048 | P19: 7971 | Q19: 1863 | R19: 1775 | S19: 1722 | T19: 1723 | U19: 7083 | V19: 1641 | W19: 1404 | X19: 1363 | Y19: 1142 | Z19: 5550 | AA19: 1254 | AB19: 1763 | AE19: 3017
B20: oil production & operations URCP before taxation | G20: 4683 | H20: 5902 | I20: 5211 | J20: 4428 | K20: 20224 | L20: 3319 | M20: 2777 | N20: 3136 | O20: 3549 | P20: 12781 | Q20: 3125 | R20: 3094 | S20: 2794 | T20: 2924 | U20: 11937 | V20: 2895 | W20: 2262 | X20: 2299 | Y20: 1958 | Z20: 9414 | AA20: 1981 | AB20: 3581 | AE20: 5562
C21: Taxation | G21: 1912 | H21: 2295 | I21: 2921 | J21: 2015 | K21: 9143 | L21: 1766 | M21: 1413 | N21: 1386 | O21: 1433 | P21: 5998 | Q21: 1509 | R21: 1171 | S21: 1259 | T21: 1226 | U21: 5165 | V21: 1375 | W21: 1062 | X21: 1054 | Y21: 918 | Z21: 4409 | AA21: 854 | AB21: 1659 | AE21: 2513
B22: oil production & operations URCP post taxation | G22: 2771 | H22: 3607 | I22: 2290 | J22: 2413 | K22: 11081 | L22: 1553 | M22: 1364 | N22: 1750 | O22: 2116 | P22: 6783 | Q22: 1616 | R22: 1923 | S22: 1535 | T22: 1698 | U22: 6772 | V22: 1520 | W22: 1200 | X22: 1245 | Y22: 1040 | Z22: 5005 | AA22: 1127 | AB22: 1922 | AE22: 3049
B24: customers & products
C25: US | G25: 589 | H25: 1873 | I25: 1448 | J25: 994 | K25: 4904 | L25: 1546 | M25: 869 | N25: 1020 | O25: 1119 | P25: 4554 | Q25: 613 | R25: 438 | S25: 276 | T25: -258 | U25: 1069 | V25: 269 | W25: 539 | X25: 457 | Y25: 452 | Z25: 1717 | AA25: 1410 | AB25: 1731 | AE25: 3141
C26: Non-US | G26: 1567 | H26: 2133 | I26: 1277 | J26: 908 | K26: 5885 | L26: 1213 | M26: -73 | N26: 1035 | O26: -316 | P26: 1859 | Q26: 676 | R26: 711 | S26: 105 | T26: -44 | U26: 1448 | V26: 408 | W26: 994 | X26: 1259 | Y26: 894 | Z26: 3555 | AA26: 1793 | AB26: 3223 | AE26: 5016
B27: customers & products URCP before taxation | G27: 2156 | H27: 4006 | I27: 2725 | J27: 1902 | K27: 10789 | L27: 2759 | M27: 796 | N27: 2055 | O27: 803 | P27: 6413 | Q27: 1289 | R27: 1149 | S27: 381 | T27: -302 | U27: 2517 | V27: 677 | W27: 1533 | X27: 1716 | Y27: 1346 | Z27: 5272 | AA27: 3203 | AB27: 4954 | AE27: 8157
C28: Taxation | G28: 400 | H28: 783 | I28: 725 | J28: 400 | K28: 2308 | L28: 777 | M28: 271 | N28: 167 | O28: 239 | P28: 1454 | Q28: 333 | R28: 125 | S28: 67 | T28: -73 | U28: 452 | V28: 76 | W28: 251 | X28: 360 | Y28: 379 | Z28: 1066 | AA28: 646 | AB28: 1034 | AE28: 1680
B29: customers & products URCP post taxation | G29: 1756 | H29: 3223 | I29: 2000 | J29: 1502 | K29: 8481 | L29: 1982 | M29: 525 | N29: 1888 | O29: 564 | P29: 4959 | Q29: 956 | R29: 1024 | S29: 314 | T29: -229 | U29: 2065 | V29: 601 | W29: 1282 | X29: 1356 | Y29: 967 | Z29: 4206 | AA29: 2557 | AB29: 3920 | AE29: 6477
B31: other businesses & corporate
C32: US | G32: -149 | H32: -242 | I32: -152 | J32: -155 | K32: -698 | L32: -128 | M32: -147 | N32: -66 | O32: -228 | P32: -569 | Q32: -160 | R32: -147 | S32: -136 | T32: -144 | U32: -587 | V32: -153 | W32: -239 | X32: -190 | Y32: -395 | Z32: -977 | AA32: -171 | AB32: -263 | AE32: -434
C33: Non-US | G33: -110 | H33: 41 | I33: -253 | J33: -151 | K33: -473 | L33: -168 | M33: -23 | N33: -237 | O33: 131 | P33: -297 | Q33: 6 | R33: -11 | S33: 367 | T33: -383 | U33: -21 | V33: 36 | W33: 201 | X33: 1 | Y33: 91 | Z33: 329 | AA33: -101 | AB33: -82 | AE33: -183
B34: other businesses & corporate URCP before taxation | G34: -259 | H34: -201 | I34: -405 | J34: -306 | K34: -1171 | L34: -296 | M34: -170 | N34: -303 | O34: -97 | P34: -866 | Q34: -154 | R34: -158 | S34: 231 | T34: -527 | U34: -608 | V34: -117 | W34: -38 | X34: -189 | Y34: -304 | Z34: -648 | AA34: -272 | AB34: -345 | AE34: -617
C35: Taxation | G35: -23 | H35: -167 | I35: -206 | J35: -43 | K35: -439 | L35: -29 | M35: -10 | N35: -162 | O35: -121 | P35: -322 | Q35: -99 | R35: -3 | S35: 64 | T35: -254 | U35: -292 | V35: -33 | W35: -109 | X35: -106 | Y35: -151 | Z35: -399 | AA35: -124 | AB35: -91 | AE35: -215
B36: other businesses & corporate URCP post taxation | G36: -236 | H36: -34 | I36: -199 | J36: -263 | K36: -732 | L36: -267 | M36: -160 | N36: -141 | O36: 24 | P36: -544 | Q36: -55 | R36: -155 | S36: 167 | T36: -273 | U36: -316 | V36: -84 | W36: 71 | X36: -83 | Y36: -153 | Z36: -249 | AA36: -148 | AB36: -254 | AE36: -402
B38: Consolidation adjustment - UPII | G38: 34 | H38: -21 | I38: -21 | J38: 147 | K38: 139 | L38: -22 | M38: -30 | N38: -57 | O38: 95 | P38: -14 | Q38: 32 | R38: -73 | S38: 65 | T38: -49 | U38: -25 | V38: 13 | W38: 30 | X38: -19 | Y38: 21 | Z38: 45 | AA38: 21 | AB38: 0 | AE38: 21
B39: Underlying replacement cost profit before interest and tax | G39: 10209 | H39: 12766 | I39: 13750 | J39: 9319 | K39: 46044 | L39: 9216 | M39: 5606 | N39: 6087 | O39: 6127 | P39: 27036 | Q39: 5950 | R39: 5414 | S39: 5227 | T39: 4033 | U39: 20624 | V39: 4465 | W39: 5249 | X39: 5326 | Y39: 4410 | Z39: 19450 | AA39: =IF(AND(AA13="",AA20="",AA27="",AA34="",AA38=""),"",AA13+AA20+AA27+AA34+AA38) -> 6269 | AB39: =IF(AND(AB13="",AB20="",AB27="",AB34="",AB38=""),"",AB13+AB20+AB27+AB34+AB38) -> 10312 | AC39: =IF(AND(AC13="",AC20="",AC27="",AC34="",AC38=""),"",AC13+AC20+AC27+AC34+AC38) | AD39: =IF(AND(AD13="",AD20="",AD27="",AD34="",AD38=""),"",AD13+AD20+AD27+AD34+AD38) | AE39: =IF(AND(AE13="",AE20="",AE27="",AE34="",AE38=""),"",AE13+AE20+AE27+AE34+AE38) -> 16581
B40: By geographical area
C41: US | G41: 2144.312 | H41: 4090.4369 | I41: 3837.2511 | J41: 2228 | K41: 12300 | L41: 2889 | M41: 2014 | N41: 2240 | O41: 2729 | P41: 9872 | Q41: 1949 | R41: 1682 | S41: 1284 | T41: 665 | U41: 5580 | V41: 1602 | W41: 1339 | X41: 1067 | Y41: 907 | Z41: 4915 | AA41: 2141 | AB41: 3351 | AE41: 5492
C42: Non-US | G42: 8064.2928 | H42: 8675.6498 | I42: 9913.0574 | J42: 7091 | K42: 33744 | L42: 6326 | M42: 3593 | N42: 3847 | O42: 3398 | P42: 17164 | Q42: 4001 | R42: 3732 | S42: 3943 | T42: 3368 | U42: 15044 | V42: 2863 | W42: 3911 | X42: 4259 | Y42: 3502 | Z42: 14535 | AA42: 4128 | AB42: 6961 | AE42: 11089
B43: Underlying replacement cost profit before interest and tax | G43: 10208.605 | H43: 12766.087 | I43: 13750.309 | J43: 9319 | K43: 46044 | L43: 9215 | M43: 5607 | N43: 6087 | O43: 6127 | P43: 27036 | Q43: 5950 | R43: 5414 | S43: 5227 | T43: 4033 | U43: 20624 | V43: 4465 | W43: 5250 | X43: 5326 | Y43: 4409 | Z43: 19450 | AA43: 6269 | AB43: 10312 | AE43: 16581

Sheet Adjusting items by segment
B1: =Summary!$B$1 -> Financial and Operating Information 2022 - 2026
B2: Group information
Z3: Contents
B5: Adjusting items
B6: Note: combines the previously separately disclosed items 'Non-operating items' and 'Fair value accounting effects'.
AD7: $ million
D8: Footnotes | F8: Q1 | G8: Q2 | H8: Q3 | I8: Q4 | J8: 2022 | K8: Q1 | L8: Q2 | M8: Q3 | N8: Q4 | O8: 2023 | P8: Q1 | Q8: Q2 | R8: Q3 | S8: Q4 | T8: 2024 | U8: Q1 | V8: Q2 | W8: Q3 | X8: Q4 | Y8: 2025 | Z8: Q1 | AA8: Q2 | AB8: Q3 | AC8: Q4 | AD8: 2026
B9: gas & low carbon energy
C10: Gains on sale of businesses and fixed assets | D10: =Footnotes!B11 -> a | F10: 9 | G10: 0 | H10: 3 | I10: 33 | J10: 45 | K10: 15 | L10: 1 | M10: 0 | N10: 3 | O10: 19 | P10: 2 | Q10: 8 | R10: 19 | S10: 268 | T10: 297 | U10: -1 | V10: 69 | W10: 0 | X10: 190 | Y10: 258 | Z10: 1 | AA10: 7 | AD10: 8
C11: Net impairment and losses on sale of businesses and fixed assets | D11: =Footnotes!B12&","&Footnotes!B24 -> b,n | F11: -252 | G11: -265 | H11: -6 | I11: 1111 | J11: 588 | K11: -2 | L11: -1058 | M11: -224 | N11: -937 | O11: -2221 | P11: -536 | Q11: -590 | R11: -772 | S11: -1623 | T11: -3521 | U11: -366 | V11: -439 | W11: -489 | X11: -3154 | Y11: -4448 | Z11: -56 | AA11: -687 | AD11: -743
C12: Environmental and other provisions | F12: 0 | G12: 0 | H12: 0 | I12: 0 | J12: 0 | K12: 0 | L12: 0 | M12: 0 | N12: 0 | O12: 0 | P12: 0 | Q12: 0 | R12: 0 | S12: 0 | T12: 0 | U12: 0 | V12: 0 | W12: 0 | X12: 0 | Y12: 0 | Z12: 0 | AA12: 0 | AD12: 0
C13: Restructuring, integration and rationalization costs | F13: 4 | G13: 1 | H13: 0 | I13: 3 | J13: 8 | K13: 0 | L13: 1 | M13: -1 | N13: 0 | O13: 0 | P13: 0 | Q13: 0 | R13: -24 | S13: -1 | T13: -25 | U13: -14 | V13: 3 | W13: 8 | X13: 1 | Y13: -2 | Z13: -13 | AA13: -9 | AD13: -22
C14: Fair value accounting effects | D14: =Footnotes!B13 -> c | F14: -5015 | G14: -74 | H14: -9224 | I14: 12502 | J14: -1811 | K14: 3934 | L14: 1222 | M14: 1816 | N14: 1887 | O14: 8859 | P14: 113 | Q14: -1011 | R14: -275 | S14: -377 | T14: -1550 | U14: 668 | V14: 18 | W14: 131 | X14: 453 | Y14: 1270 | Z14: -273 | AA14: 205 | AD14: -68
C15: Other | D15: =Footnotes!B14 -> d | F15: 135 | G15: -5 | H15: 31 | I15: -358 | J15: -197 | K15: -56 | L15: -110 | M15: -572 | N15: -561 | O15: -1299 | P15: -201 | Q15: -124 | R15: 303 | S15: 1070 | T15: 1048 | U15: 74 | V15: -66 | W15: -72 | X15: -1051 | Y15: -1115 | Z15: 59 | AA15: -74 | AD15: -15
F16: -5119 | G16: -343 | H16: -9196 | I16: 13291 | J16: -1367 | K16: 3891 | L16: 56 | M16: 1019 | N16: 392 | O16: 5358 | P16: -622 | Q16: -1717 | R16: -749 | S16: -663 | T16: -3751 | U16: 361 | V16: -415 | W16: -422 | X16: -3561 | Y16: -4037 | Z16: -282 | AA16: -558 | AD16: -840
B17: oil production & operations
C18: Gains on sale of businesses and fixed assets | D18: =Footnotes!B11 -> a | F18: 249 | G18: 1278 | H18: 1851 | I18: 68 | J18: 3446 | K18: 137 | L18: -31 | M18: 246 | N18: -55 | O18: 297 | P18: 184 | Q18: 7 | R18: -82 | S18: 35 | T18: 144 | U18: 9 | V18: 196 | W18: -29 | X18: 231 | Y18: 407 | Z18: 67 | AA18: 5 | AD18: 72
C19: Net impairment and losses on sale of businesses and fixed assets | D19: =Footnotes!B12 -> b | F19: -1204 | G19: 268 | H19: -326 | I19: -3246 | J19: -4508 | K19: 8 | L19: -140 | M19: -52 | N19: -1635 | O19: -1819 | P19: -120 | Q19: -29 | R19: -770 | S19: 129 | T19: -790 | U19: -15 | V19: -330 | W19: 10 | X19: -217 | Y19: -552 | Z19: -155 | AA19: -108 | AD19: -263
C20: Environmental and other provisions | D20: =Footnotes!B15 -> e | F20: 58 | G20: -204 | H20: 244 | I20: 420 | J20: 518 | K20: -49 | L20: -44 | M20: 99 | N20: 48 | O20: 54 | P20: -77 | Q20: 195 | R20: -53 | S20: -60 | T20: 5 | U20: -31 | V20: -55 | W20: -145 | X20: -37 | Y20: -268 | Z20: -170 | AA20: -42 | AD20: -212
C21: Restructuring, integration and rationalization costs | F21: -10 | G21: -7 | H21: 3 | I21: 3 | J21: -11 | K21: 0 | L21: -1 | M21: 0 | N21: 0 | O21: -1 | P21: 0 | Q21: 0 | R21: -1 | S21: -14 | T21: -15 | U21: -41 | V21: -46 | W21: 9 | X21: 11 | Y21: -67 | Z21: -66 | AA21: -9 | AD21: -75
C22: Fair value accounting effects | F22: 0 | G22: 0 | H22: 0 | I22: 0 | J22: 0 | K22: 0 | L22: 0 | M22: 0 | N22: 0 | O22: 0 | P22: 0 | Q22: 0 | R22: 0 | S22: 0 | T22: 0 | U22: 0 | V22: 0 | W22: 0 | X22: 0 | Y22: 0 | Z22: 0 | AA22: 0 | AD22: 0
C23: Other | D23: =Footnotes!B14 -> d | F23: 55 | G23: 0 | H23: -18 | I23: 15 | J23: 52 | K23: -98 | L23: 7 | M23: -2 | N23: -28 | O23: -121 | P23: -52 | Q23: 0 | R23: 3 | S23: -443 | T23: -492 | U23: -29 | V23: -111 | W23: -25 | X23: -211 | Y23: -376 | Z23: -2 | AA23: -30 | AD23: -32
F24: -852 | G24: 1335 | H24: 1754 | I24: -2740 | J24: -503 | K24: -2 | L24: -209 | M24: 291 | N24: -1670 | O24: -1590 | P24: -65 | Q24: 173 | R24: -903 | S24: -353 | T24: -1148 | U24: -107 | V24: -346 | W24: -180 | X24: -223 | Y24: -856 | Z24: -326 | AA24: -184 | AD24: -510
B25: customers & products
C26: Gains on sale of businesses and fixed assets | F26: 261 | G26: 31 | H26: 10 | I26: 72 | J26: 374 | K26: 1 | L26: 2 | M26: 18 | N26: 23 | O26: 44 | P26: 5 | Q26: 4 | R26: 12 | S26: 169 | T26: 190 | U26: 3 | V26: 16 | W26: 10 | X26: 288 | Y26: 317 | Z26: 33 | AA26: 4 | AD26: 37
C27: Net impairment and losses on sale of businesses and fixed assets | D27: =Footnotes!B12&","&Footnotes!B24 -> b,n | F27: -13 | G27: -434 | H27: -85 | I27: -1451 | J27: -1983 | K27: -83 | L27: -36 | M27: -242 | N27: -1396 | O27: -1757 | P27: -96 | Q27: -678 | R27: -295 | S27: -1531 | T27: -2600 | U27: -114 | V27: -389 | W27: -274 | X27: -253 | Y27: -1030 | Z27: -134 | AA27: -306 | AD27: -440
C28: Environmental and other provisions | F28: 0 | G28: -35 | H28: -1 | I28: -65 | J28: -101 | K28: -10 | L28: -1 | M28: 0 | N28: -86 | O28: -97 | P28: 0 | Q28: 7 | R28: -4 | S28: -102 | T28: -99 | U28: 0 | V28: -1 | W28: -1 | X28: -66 | Y28: -68 | Z28: -3 | AA28: 0 | AD28: -3
C29: Restructuring, integration and rationalization costs | F29: 1 | G29: 9 | H29: -4 | I29: 12 | J29: 18 | K29: -2 | L29: 1 | M29: 1 | N29: 0 | O29: 0 | P29: 1 | Q29: 0 | R29: -39 | S29: -85 | T29: -123 | U29: -91 | V29: -86 | W29: -17 | X29: -47 | Y29: -241 | Z29: -60 | AA29: -40 | AD29: -100
C30: Fair value accounting effects | F30: -377 | G30: -62 | H30: -59 | I30: 189 | J30: -309 | K30: 77 | L30: -109 | M30: -198 | N30: 144 | O30: -86 | P30: -144 | Q30: 25 | R30: 157 | S30: -119 | T30: -81 | U30: -82 | V30: -201 | W30: 42 | X30: 34 | Y30: -207 | Z30: -593 | AA30: 641 | AD30: 48
